BEGIN:VCALENDAR
VERSION:2.0
PRODID:-//wp-events-plugin.com//6.6.4.4//EN
TZID:Asia/Tokyo
X-WR-TIMEZONE:Asia/Tokyo
BEGIN:VEVENT
UID:40@kokura-reha.jp
DTSTART;TZID=Asia/Tokyo:20251115T103000
DTEND;TZID=Asia/Tokyo:20251115T123000
DTSTAMP:20250328T100253Z
URL:https://www.kokura-reha.jp/events/403/
SUMMARY:ブース体験&スイーツ軽食バイキング2025-11-15
DESCRIPTION:
END:VEVENT
BEGIN:VTIMEZONE
TZID:Asia/Tokyo
X-LIC-LOCATION:Asia/Tokyo
BEGIN:STANDARD
DTSTART:20241115T103000
TZOFFSETFROM:+0900
TZOFFSETTO:+0900
TZNAME:JST
END:STANDARD
END:VTIMEZONE
END:VCALENDAR